BEGIN:VCALENDAR
VERSION:2.0
PRODID:Imitheme.com 
BEGIN:VEVENT
UID:20260422T154331198459906
DTSTAMP;TZID=UTC:2026-04-22 15:43:31
DTSTART;TZID=America/Los_Angeles:20250629T000000
DTEND;TZID=America/Los_Angeles:20250629T000000
SUMMARY:Montornès del Vallès - 29/06
LOCATION:
DESCRIPTION:
URL:https://riverplatecircus.com/evento/montornes-del-valles-29-06/
END:VEVENT
END:VCALENDAR
