BEGIN:VCALENDAR
VERSION:2.0
PRODID:Imitheme.com 
BEGIN:VEVENT
UID:20260422T131316690994290
DTSTAMP;TZID=UTC:2026-04-22 13:13:16
DTSTART;TZID=America/Los_Angeles:20250628T000000
DTEND;TZID=America/Los_Angeles:20250628T000000
SUMMARY:Montornès del Vallès - 28/06
LOCATION:
DESCRIPTION:
URL:https://riverplatecircus.com/evento/montornes-del-valles-28-06/
END:VEVENT
END:VCALENDAR
