BEGIN:VCALENDAR
VERSION:2.0
PRODID:Imitheme.com 
BEGIN:VEVENT
UID:20260422T11310256845998
DTSTAMP;TZID=UTC:2026-04-22 11:31:02
DTSTART;TZID=America/Los_Angeles:20250624T000000
DTEND;TZID=America/Los_Angeles:20250624T000000
SUMMARY:Montornès del Vallès - 24/06
LOCATION:
DESCRIPTION:
URL:https://riverplatecircus.com/evento/montornes-del-valles-24-06/
END:VEVENT
END:VCALENDAR
