BEGIN:VCALENDAR
VERSION:2.0
PRODID:Imitheme.com 
BEGIN:VEVENT
UID:20260420T08355567109010
DTSTAMP;TZID=UTC:2026-04-20 08:35:55
DTSTART;TZID=America/Los_Angeles:20250425T000000
DTEND;TZID=America/Los_Angeles:20250425T000000
SUMMARY:Les Roquetes - 25/04 | MÁS ENTRADAS DISPONIBLES EN LA TAQUILLA DEL CIRCO
LOCATION:
DESCRIPTION:¡Prepárense para el espectáculo del año en el Circo River Plate! Este invierno, traemos un show que hará historia con los personajes más populares y queridos del mundo. ¡Risas, música y magia aseguradas para toda la familia!   Conoce a las estrellas del show:   1. Mickey Mouse   El icónico ratón que ha conquistado generaciones. ¡Ven a vivir una aventura inolvidable con el personaje más amado del planeta!   2. Stitch   El adorable y travieso extraterrestre que siempre nos roba una sonrisa. ¡Prepárate para una dosis de diversión intergaláctica!   3. Peppa Pig   La cerdita más famosa del mundo. ¡Disfruta de sus juegos y ocurrencias junto a toda tu familia!   4. Bluey y Bingo   Los cachorros favoritos de los niños. Traen su imaginación sin límites y momentos mágicos para todos.   5. Bob Esponja y Patricio   Los inseparables amigos de Fondo de Bikini llegan para llenar el circo de carcajadas y ocurrencias submarinas.   6. Minion   Siempre travieso, siempre divertido. ¡No hay momento aburrido con él en el escenario!   7. La Patrulla Canina   ¡Siempre listos para cualquier misión! Estos héroes caninos harán que todos se levanten de sus asientos para aplaudir.   8. La Vaca Lola   Desde la granja llega para cantar y bailar. ¡Los más pequeños no podrán resistirse!   9. El Gallo Bartolito   ¡El gallo más querido, directo de la granja al escenario, listo para divertir a grandes y chicos!         Información importante   Entradas: Compra tu ticket online y recíbelo por correo electrónico. Solo necesitas presentarlo al ingresar al circo.   Fechas y horarios: Consulta nuestra web para conocer los detalles del espectáculo en tu ciudad.         ¡No esperes más!   Vive un día lleno de aventuras, magia y risas junto a tus personajes favoritos. ¡El Circo River Plate te espera con un show que nunca olvidarás! Compra tus entradas ahora y prepárate para la experiencia más emocionante del año.
URL:https://riverplatecircus.com/evento/les-roquetes-25-04/
END:VEVENT
END:VCALENDAR
